BEGIN:VCALENDAR
VERSION:2.0
PRODID:-//TYPO3/NONSGML Calendarize//EN


BEGIN:VEVENT
UID:calendarize-konference-veza-izpetes-un-inovaciju-paatrinasana-visaptverosas-veza-infrastrukturas
DTSTAMP:20241222T071545Z

DTSTART;VALUE=DATE:20250409
DTEND;VALUE=DATE:20250411
    
SUMMARY:Konference: Vēža izpētes un inovāciju paātrināšana visaptverošās vēža infrastruktūrās
DESCRIPTION:Konferences tēma: Vēža izpētes un inovāciju paātrināšana visaptverošās vēža infrastruktūrās.\nVieta un laiks: Brisele\, Beļģija\; 09.04.2025. - 10.04.2025.\nAicinām reģistrēties!\n\n
X-ALT-DESC;FMTTYPE=text/html:<p>Konferences tēma: Vēža izpētes un inovāciju paātrināšana visaptverošās vēža infrastruktūrās.</p>\n<p>Vieta un laiks: Brisele\, Beļģija\; 09.04.2025. - 10.04.2025.</p>\n<p><a href="https://www.eso.net/en/what-we-do/future-events/accelerating-cancer-research-and-innovation-in-comprehensive-cancer-infrastructures/3-6633-0-" target="_blank">Aicinām reģistrēties!</a></p>\n\n
LOCATION:
END:VEVENT

END:VCALENDAR