BEGIN:VCALENDAR
VERSION:2.0
PRODID:-//TYPO3/NONSGML Calendarize//EN


BEGIN:VEVENT
UID:calendarize-default-9bf16bba46061ad19ec0f670f3b48518
DTSTAMP:20260105T102550Z

DTSTART;VALUE=DATE:20260519
DTEND;VALUE=DATE:20260522
    
SUMMARY:IARC@60 International Scientific Conference
DESCRIPTION:This international event will bring together the global cancer research and publichealth community to translate cutting-edge science into meaningful action forcancer prevention and control.\nEvent planner/Registration: contact.iarc2026@insight-outside.fr\nhttps://iarc2026conf.iarc.who.int/en/abstracts/14 \nHow to submit?Submission form access requires prior congress pre-registration. Submission deadline: 19th January\, 2026.
X-ALT-DESC;FMTTYPE=text/html:<p class="text-justify">This international event will bring together the global cancer research and public<br />health community to translate cutting-edge science into meaningful action for<br />cancer prevention and control.</p>\n<p>Event planner/Registration: <a href="mailto:contact.iarc2026@insight-outside.fr?body=contact.iarc2026%40insight-outside.fr">contact.iarc2026@insight-outside.fr</a></p>\n<p><br /><a href="https://iarc2026conf.iarc.who.int/en/abstracts/14" target="_blank">https://iarc2026conf.iarc.who.int/en/abstracts/14</a><br />&nbsp\;</p>\n<p><strong>How to submit?</strong><br />Submission form access requires prior congress pre-registration. Submission deadline: 19th January\, 2026.</p>
LOCATION:
END:VEVENT

END:VCALENDAR